BEGIN:VCALENDAR
VERSION:2.0
PRODID:-//Mais Quelle Chanson - ECPv6.10.2//NONSGML v1.0//EN
CALSCALE:GREGORIAN
METHOD:PUBLISH
X-WR-CALNAME:Mais Quelle Chanson
X-ORIGINAL-URL:https://maisquellechanson.be
X-WR-CALDESC:Evenementen voor Mais Quelle Chanson
REFRESH-INTERVAL;VALUE=DURATION:PT1H
X-Robots-Tag:noindex
X-PUBLISHED-TTL:PT1H
BEGIN:VTIMEZONE
TZID:Europe/Brussels
BEGIN:DAYLIGHT
TZOFFSETFROM:+0100
TZOFFSETTO:+0200
TZNAME:CEST
DTSTART:20250330T010000
END:DAYLIGHT
BEGIN:STANDARD
TZOFFSETFROM:+0200
TZOFFSETTO:+0100
TZNAME:CET
DTSTART:20251026T010000
END:STANDARD
END:VTIMEZONE
BEGIN:VEVENT
DTSTART;TZID=Europe/Brussels:20250406T150000
DTEND;TZID=Europe/Brussels:20250406T160000
DTSTAMP:20260420T095306
CREATED:20241022T124028Z
LAST-MODIFIED:20241022T130410Z
UID:10000410-1743951600-1743955200@maisquellechanson.be
SUMMARY:Voorstelling Wij Hier Samen Ook morgen (8+)
DESCRIPTION:Muzikale vertelling met kinderen centraal \n\n\n\nGroot worden is niet altijd zo evident.Hoe doe je dat eigenlijk?Een groep kinderen en jongeren gaat ernaar op zoek.Over wat mag en niet mag\, wie ze zijn\, wie ze niet zijn en wie ze graag zouden willen zijn. \n\n\n\n\n\n\nInfo en Tickets
URL:https://maisquellechanson.be/agenda/voorstelling-wij-hier-samen-ook-morgen-8/
LOCATION:CC De Spil\, Roeselare\, Hippoliet Spilleboutdreef 1\, 8800 Roeselare\, Belgium
ATTACH;FMTTYPE=image/jpeg:https://maisquellechanson.be/wp-content/uploads/2024/05/BI2A9722-1web-1-1.jpg
END:VEVENT
END:VCALENDAR