BEGIN:VCALENDAR
VERSION:2.0
PRODID:-//Mais Quelle Chanson - ECPv6.10.2//NONSGML v1.0//EN
CALSCALE:GREGORIAN
METHOD:PUBLISH
X-WR-CALNAME:Mais Quelle Chanson
X-ORIGINAL-URL:https://maisquellechanson.be
X-WR-CALDESC:Evenementen voor Mais Quelle Chanson
REFRESH-INTERVAL;VALUE=DURATION:PT1H
X-Robots-Tag:noindex
X-PUBLISHED-TTL:PT1H
BEGIN:VTIMEZONE
TZID:Europe/Brussels
BEGIN:DAYLIGHT
TZOFFSETFROM:+0100
TZOFFSETTO:+0200
TZNAME:CEST
DTSTART:20250330T010000
END:DAYLIGHT
BEGIN:STANDARD
TZOFFSETFROM:+0200
TZOFFSETTO:+0100
TZNAME:CET
DTSTART:20251026T010000
END:STANDARD
END:VTIMEZONE
BEGIN:VEVENT
DTSTART;TZID=Europe/Brussels:20250303T100000
DTEND;TZID=Europe/Brussels:20250306T170000
DTSTAMP:20260420T095305
CREATED:20241004T093627Z
LAST-MODIFIED:20241026T073718Z
UID:10000408-1740996000-1741280400@maisquellechanson.be
SUMMARY:Krokuskamp 2025
DESCRIPTION:Tijdens dit kamp wordt er opnieuw heel wat gezongen en we werken samen aan de opname van een nieuw lied. Onze dromen voor de toekomst tonen we ook in tekeningen en knutselwerken. Het wordt opnieuw een gevarieerd kamp met muziek\, beeld en niet te vergeten: heel veel plezier! \n\n\n\nDe laatste dag van het kamp (zaterdag na een rustdag op vrijdag) brengen we samen door op het gratis kinderfestival ‘Here comes the sun’ in Ha Concerts. Er staan heel wat muzikale workshops op het programma\, Discobar Sabrina is weer van de partij\, er is een knutselstand\, fotobooth en grimestand. We sluiten af met een toonmoment met de kinderen van het kamp waar ze voor alle aanwezigen het resultaat tonen van het muzikale kamp. \n\n\n\nWanneer?Het krokuskamp gaat door tijdens de krokusvakantie van van maandag 3 maart t.e.m. donderdag 6 maart  telkens van 10u tot 16u30. Op vrijdag is er geen kampdag!  Maar voorzien we een  rustdag voor de kinderen. Want op zaterdag 8 maart verwachten we de kinderen (uur repetitie nog te bevestigen) en minstens één begeleider (vanaf 13u30) voor het kinderfestival ‘Here Comes The Sun’ waar ook het toonmoment zal te zien zijn rond 17u.  \n\n\n\n\n\n\nSchrijf in
URL:https://maisquellechanson.be/agenda/krokuskamp-2025/
LOCATION:Ha Concerts\, Kouter 29\, Gent\, 9000\, Belgium
CATEGORIES:Kampen
ATTACH;FMTTYPE=image/jpeg:https://maisquellechanson.be/wp-content/uploads/2024/08/Afbeelding-van-WhatsApp-op-2024-07-04-om-20.47.09_8f7486b8stuk-web.jpg
END:VEVENT
BEGIN:VEVENT
DTSTART;TZID=Europe/Brussels:20250308T140000
DTEND;TZID=Europe/Brussels:20250308T180000
DTSTAMP:20260420T095305
CREATED:20241004T102246Z
LAST-MODIFIED:20250203T130552Z
UID:10000409-1741442400-1741456800@maisquellechanson.be
SUMMARY:Kinderfestival Here Comes The Sun
DESCRIPTION:Het wordt intussen een traditie. De tweede zaterdag van de krokusvakantie houden we een groot kinderfeest bij Ha Concerts. \n\n\n\nAls slot van een kampweek vol plezier en creativiteit geeft Mais Quelle Chanson een feestje bij Ha Concerts. Want wat is een krokusvakantie zonder al dansend uit de bol gaan? Naast een toonmoment is het vooral tijd om zelf in actie te komen\, met allerhande muziek- en knutselworkshops voor kinderen. Reserveer alvast je gratis plaats op de discodansvloer!Heads up: het thema wordt Bal masqué. Dus elk kind mag verkleed komen. ✌️ \n\n\n\nDit kan je verwachten\n\n\n\n\n14u Uitbundig chaotische kinderkaraoke – met dj Patrick\n\n\n\n15u Workshop Quadrille volksdans – door Laura Van borm  \n\n\n\n16u Zangworkshop met liedjes – door Kapinga Gysel en Luna Maes\n\n\n\n17u Concert: Mais Quelle Chanson en Spectra ensemble spelen muziek uit hun voorstelling ‘Wij hier samen ook morgen’.Publiek uit de workshops kan meezingen en dansen + korte afsluiter krokuskamp.                  Doorlopend randanimatie in de foyer: kinderdisco dj Patrick\, grime\, knutselen\, fotobooth\, …                \n\n\n\n\nAlle workshops zijn voorzien voor leeftijden van 6 t/m 12 jaar. Al mogen ouders en kleine broertjes en zusjes natuurlijk ook meedoen. \n\n\n\n\n\n\nInfo en gratis inschrijven
URL:https://maisquellechanson.be/agenda/kinderfestival-here-comes-the-sun-2/
LOCATION:Ha Concerts\, Kouter 29\, Gent\, 9000\, Belgium
ATTACH;FMTTYPE=image/jpeg:https://maisquellechanson.be/wp-content/uploads/2024/04/aHA_Mais_quelle_chanson_24_02_18_Evy-Ottermans_240217_16_07_01_IMC_2022web.jpg
END:VEVENT
END:VCALENDAR