BEGIN:VCALENDAR
VERSION:2.0
PRODID:-//Mais Quelle Chanson - ECPv6.10.2//NONSGML v1.0//EN
CALSCALE:GREGORIAN
METHOD:PUBLISH
X-ORIGINAL-URL:https://maisquellechanson.be
X-WR-CALDESC:Evenementen voor Mais Quelle Chanson
REFRESH-INTERVAL;VALUE=DURATION:PT1H
X-Robots-Tag:noindex
X-PUBLISHED-TTL:PT1H
BEGIN:VTIMEZONE
TZID:Europe/Brussels
BEGIN:DAYLIGHT
TZOFFSETFROM:+0100
TZOFFSETTO:+0200
TZNAME:CEST
DTSTART:20240331T010000
END:DAYLIGHT
BEGIN:STANDARD
TZOFFSETFROM:+0200
TZOFFSETTO:+0100
TZNAME:CET
DTSTART:20241027T010000
END:STANDARD
END:VTIMEZONE
BEGIN:VEVENT
DTSTART;TZID=Europe/Brussels:20241102T140000
DTEND;TZID=Europe/Brussels:20241102T150000
DTSTAMP:20260421T070601
CREATED:20240524T080330Z
LAST-MODIFIED:20241021T182226Z
UID:10000407-1730556000-1730559600@maisquellechanson.be
SUMMARY:WIJ HIER SAMEN OOK MORGEN - Première
DESCRIPTION:Muzikale vertelling met kinderen en jongeren (voorstelling voor kinderen 8+) \n\n\n\n\n\n\n\nEen productie van Mais Quelle Chanson & Spectra in co-productie met Inspiratum\, Perpodium & Ha Concerts \n\n\n\nGroot worden is niet altijd zo evident. Hoe doe je dat eigenlijk? Een groep kinderen en jongeren gaat ernaar op zoek. Over wat mag en niet mag\, wie ze zijn\, wie ze niet zijn en wie ze graag zouden willen zijn. \n\n\n\nVoor ons tienjarige bestaan\, nodigt Mais Quelle Chanson auteur Marieke De Maré\, componist Frederik Neyrinck en muzikanten van Spectra uit om aan de slag te gaan met de ideeën en songs\, die ze tijdens al die jaren gecreëerd hebben. Zoals altijd stappen we voor de gelegenheid met getalenteerde kinderen en jongeren in een muzikaal traject en bespreken we hun kijk op het thema.  Het resultaat is een bruisende theatrale muziekvertelling voor het hele gezin over jezelf zijn en hoe je dat doet. Of niet doet. Of wel doet. Of niet doet. Of daar ergens tussenin? \n\n\n\n \n\n\n\nWIJ HIER SAMEN OOK MORGEN – Credits \n\n\n\nConcept Kapinga Gysel en Marieke De Maré \n\n\n\nMuziek en Arrangementen Frederik Neyrinck i.s.m. Mais Quelle Chanson \n\n\n\nTekst Marieke De Maré \n\n\n\nMuziek – SPECTRA \n\n\n\nLara Rosseel – contrabas \n\n\n\nFrank Van Eycken – percussie \n\n\n\nTille Van Gastel – fluit \n\n\n\nPieter Jansen – viool \n\n\n\nZang en spel \n\n\n\nKinderen en jongeren van Mais Quelle Chanson:  \n\n\n\nMounia van Eechoud\, Rosie Lamsens\, Emmy Cayman\, Ellen Bofah \n\n\n\nAlma Lamsens\, Otis Mels\, Williams Yovo\, Nel Paeleman\, \n\n\n\nLena De Smet\, Mona Wybaille\, Aiko Steegen. \n\n\n\nKapinga Gysel en Luna Maes \n\n\n\nZangcoaching Kapinga Gysel en Luna Maes \n\n\n\nRegie Kapinga Gysel \n\n\n\nCo-regie Isnelle Da Silveira \n\n\n\nFotografie en video Jakob Rosseel \n\n\n\nKostuums Griet Keersmaeckers en Magali Laroy \n\n\n\nDecor Wim Piqueur \n\n\n\nTechniek en ondersteuning repetities Jasper Hardy  \n\n\n\nGeluid Brecht Beuselinck \n\n\n\nLichtontwerp Wout Roelants \n\n\n\nMet dank aan Francis Mourey \n\n\n\nPRODUCENT \n\n\n\nMais Quelle Chanson \n\n\n\nCO-PRODUCTIE \n\n\n\nSPECTRA\, Ha Concerts\, Perpodium\, Inspiratum \n\n\n\nMET STEUN VAN \n\n\n\nDe Vlaamse Overheid\, De Tax shelter van de Belgische Federale Overheid\, Sabam for culture \n\n\n\n LOD muziektheater\, International Opera Academy en KASK  \n\n\n\n\n\n\n\n\n\n\n\n\n\n\n\n\n\n\n\n\n\n\n\n\n\n\n\n\n\n\n\n\n\n\n\n\n\n\n\n\n\n\n\n \n\n\n\n\nTickets
URL:https://maisquellechanson.be/agenda/premiere-wij-hier-samen-ook-morgen/
CATEGORIES:Concerten,Projecten
ATTACH;FMTTYPE=image/jpeg:https://maisquellechanson.be/wp-content/uploads/2024/05/BI2A9722-1web-1.jpg
END:VEVENT
END:VCALENDAR