BEGIN:VCALENDAR
VERSION:2.0
PRODID:-//Mais Quelle Chanson - ECPv6.10.2//NONSGML v1.0//EN
CALSCALE:GREGORIAN
METHOD:PUBLISH
X-ORIGINAL-URL:https://maisquellechanson.be
X-WR-CALDESC:Evenementen voor Mais Quelle Chanson
REFRESH-INTERVAL;VALUE=DURATION:PT1H
X-Robots-Tag:noindex
X-PUBLISHED-TTL:PT1H
BEGIN:VTIMEZONE
TZID:Europe/Brussels
BEGIN:DAYLIGHT
TZOFFSETFROM:+0100
TZOFFSETTO:+0200
TZNAME:CEST
DTSTART:20250330T010000
END:DAYLIGHT
BEGIN:STANDARD
TZOFFSETFROM:+0200
TZOFFSETTO:+0100
TZNAME:CET
DTSTART:20251026T010000
END:STANDARD
END:VTIMEZONE
BEGIN:VEVENT
DTSTART;TZID=Europe/Brussels:20250604T133000
DTEND;TZID=Europe/Brussels:20250604T153000
DTSTAMP:20260420T003115
CREATED:20241206T130220Z
LAST-MODIFIED:20241206T132246Z
UID:10000484-1749043800-1749051000@maisquellechanson.be
SUMMARY:Young Voices lente
DESCRIPTION:Young Voices prikkelt het muzikale gevoel van kinderen. \n\n\n\nIn dit traject worden ze spelenderwijs begeleid om zichzelf creatief te uitenen zelfzeker op een podium te staan. \n\n\n\nPlezier bij het zingen staat centraal. In de sessies praat Luna met de kinderen overde teksten en emoties van de liedjes. Aan de hand van verschillende oefeningenbrengt ze het belang van performance en samenzang bij. \n\n\n\nDe invulling van de sessies wordt steeds aangepast aan de interesses van dekinderen. Samen liedjes schrijven\, opnemen\, een clipje maken. Alles is mogelijk!Ook dansen en bewegen zijn in deze sessies essentieel. \n\n\n\nYoung Voices motiveert kinderen om hun eigen interesses te onderzoeken encreatief bezig te zijn. Het is een hechte en veilige omgeving om een kind warm temaken voor muziek. \n\n\n\nDe prijs voor 10 sessies: \n\n\n\n€90 Sociaal Tarief€110 Standaard Tarief€130 Tarief met extra steun voor MQC€18 Uitpas kansentarief \n\n\n\n(Je kan zelf het tarief kiezen dat best bij jouw inkomen past) \n\n\n\n\nSchrijf in
URL:https://maisquellechanson.be/agenda/young-voices-lente/2025-06-04/
LOCATION:De Broederij\, Ledeberg\, Standaertsite 1\, Ledeberg\, 9050\, Belgium
CATEGORIES:Kinderzang,Zangtrajecten
ATTACH;FMTTYPE=image/jpeg:https://maisquellechanson.be/wp-content/uploads/2024/04/aHA_Mais_quelle_chanson_24_02_18_Evy-Ottermans_240217_18_37_22_IMG_5055web.jpg
END:VEVENT
BEGIN:VEVENT
DTSTART;TZID=Europe/Brussels:20250609T110000
DTEND;TZID=Europe/Brussels:20250609T120000
DTSTAMP:20260420T003115
CREATED:20241022T131506Z
LAST-MODIFIED:20241022T132020Z
UID:10000412-1749466800-1749470400@maisquellechanson.be
SUMMARY:Voorstelling Wij Hier Samen Ook morgen (8+)
DESCRIPTION:Muzikale vertelling met kinderen centraal \n\n\n\nGroot worden is niet altijd zo evident.Hoe doe je dat eigenlijk?Een groep kinderen en jongeren gaat ernaar op zoek.Over wat mag en niet mag\, wie ze zijn\, wie ze niet zijn en wie ze graag zouden willen zijn. \n\n\n\n \n\n\n\n\nInfo en Tickets
URL:https://maisquellechanson.be/agenda/voorstelling-wij-hier-samen-ook-morgen-8-2/2025-06-09/1/
LOCATION:De Singel\, Desguinlei 25\, 2018 Antwerpen\, Belgium
ATTACH;FMTTYPE=image/jpeg:https://maisquellechanson.be/wp-content/uploads/2024/05/BI2A9722-1web-1-1.jpg
END:VEVENT
BEGIN:VEVENT
DTSTART;TZID=Europe/Brussels:20250609T150000
DTEND;TZID=Europe/Brussels:20250609T160000
DTSTAMP:20260420T003115
CREATED:20241022T131506Z
LAST-MODIFIED:20241022T132020Z
UID:10000413-1749481200-1749484800@maisquellechanson.be
SUMMARY:Voorstelling Wij Hier Samen Ook morgen (8+)
DESCRIPTION:Muzikale vertelling met kinderen centraal \n\n\n\nGroot worden is niet altijd zo evident.Hoe doe je dat eigenlijk?Een groep kinderen en jongeren gaat ernaar op zoek.Over wat mag en niet mag\, wie ze zijn\, wie ze niet zijn en wie ze graag zouden willen zijn. \n\n\n\n \n\n\n\n\nInfo en Tickets
URL:https://maisquellechanson.be/agenda/voorstelling-wij-hier-samen-ook-morgen-8-2/2025-06-09/2/
LOCATION:De Singel\, Desguinlei 25\, 2018 Antwerpen\, Belgium
ATTACH;FMTTYPE=image/jpeg:https://maisquellechanson.be/wp-content/uploads/2024/05/BI2A9722-1web-1-1.jpg
END:VEVENT
BEGIN:VEVENT
DTSTART;TZID=Europe/Brussels:20250610T103000
DTEND;TZID=Europe/Brussels:20250610T113000
DTSTAMP:20260420T003115
CREATED:20241022T143713Z
LAST-MODIFIED:20241022T143716Z
UID:10000418-1749551400-1749555000@maisquellechanson.be
SUMMARY:Schoolvoorstelling Wij Hier Samen Ook morgen (8+)
DESCRIPTION:Muzikale vertelling met kinderen centraal \n\n\n\nGroot worden is niet altijd zo evident.Hoe doe je dat eigenlijk?Een groep kinderen en jongeren gaat ernaar op zoek.Over wat mag en niet mag\, wie ze zijn\, wie ze niet zijn en wie ze graag zouden willen zijn. \n\n\n\n \n\n\n\n\nInfo en Tickets
URL:https://maisquellechanson.be/agenda/schoolvoorstelling-wij-hier-samen-ook-morgen-8-3/2025-06-10/1/
LOCATION:De Singel\, Desguinlei 25\, 2018 Antwerpen\, Belgium
ATTACH;FMTTYPE=image/jpeg:https://maisquellechanson.be/wp-content/uploads/2024/05/BI2A9722-1web-1-1.jpg
END:VEVENT
BEGIN:VEVENT
DTSTART;TZID=Europe/Brussels:20250610T133000
DTEND;TZID=Europe/Brussels:20250610T143000
DTSTAMP:20260420T003115
CREATED:20241022T143713Z
LAST-MODIFIED:20241022T143716Z
UID:10000419-1749562200-1749565800@maisquellechanson.be
SUMMARY:Schoolvoorstelling Wij Hier Samen Ook morgen (8+)
DESCRIPTION:Muzikale vertelling met kinderen centraal \n\n\n\nGroot worden is niet altijd zo evident.Hoe doe je dat eigenlijk?Een groep kinderen en jongeren gaat ernaar op zoek.Over wat mag en niet mag\, wie ze zijn\, wie ze niet zijn en wie ze graag zouden willen zijn. \n\n\n\n \n\n\n\n\nInfo en Tickets
URL:https://maisquellechanson.be/agenda/schoolvoorstelling-wij-hier-samen-ook-morgen-8-3/2025-06-10/2/
LOCATION:De Singel\, Desguinlei 25\, 2018 Antwerpen\, Belgium
ATTACH;FMTTYPE=image/jpeg:https://maisquellechanson.be/wp-content/uploads/2024/05/BI2A9722-1web-1-1.jpg
END:VEVENT
BEGIN:VEVENT
DTSTART;TZID=Europe/Brussels:20250611T133000
DTEND;TZID=Europe/Brussels:20250611T153000
DTSTAMP:20260420T003115
CREATED:20241206T130220Z
LAST-MODIFIED:20241206T132246Z
UID:10000485-1749648600-1749655800@maisquellechanson.be
SUMMARY:Young Voices lente
DESCRIPTION:Young Voices prikkelt het muzikale gevoel van kinderen. \n\n\n\nIn dit traject worden ze spelenderwijs begeleid om zichzelf creatief te uitenen zelfzeker op een podium te staan. \n\n\n\nPlezier bij het zingen staat centraal. In de sessies praat Luna met de kinderen overde teksten en emoties van de liedjes. Aan de hand van verschillende oefeningenbrengt ze het belang van performance en samenzang bij. \n\n\n\nDe invulling van de sessies wordt steeds aangepast aan de interesses van dekinderen. Samen liedjes schrijven\, opnemen\, een clipje maken. Alles is mogelijk!Ook dansen en bewegen zijn in deze sessies essentieel. \n\n\n\nYoung Voices motiveert kinderen om hun eigen interesses te onderzoeken encreatief bezig te zijn. Het is een hechte en veilige omgeving om een kind warm temaken voor muziek. \n\n\n\nDe prijs voor 10 sessies: \n\n\n\n€90 Sociaal Tarief€110 Standaard Tarief€130 Tarief met extra steun voor MQC€18 Uitpas kansentarief \n\n\n\n(Je kan zelf het tarief kiezen dat best bij jouw inkomen past) \n\n\n\n\nSchrijf in
URL:https://maisquellechanson.be/agenda/young-voices-lente/2025-06-11/
LOCATION:De Broederij\, Ledeberg\, Standaertsite 1\, Ledeberg\, 9050\, Belgium
CATEGORIES:Kinderzang,Zangtrajecten
ATTACH;FMTTYPE=image/jpeg:https://maisquellechanson.be/wp-content/uploads/2024/04/aHA_Mais_quelle_chanson_24_02_18_Evy-Ottermans_240217_18_37_22_IMG_5055web.jpg
END:VEVENT
BEGIN:VEVENT
DTSTART;TZID=Europe/Brussels:20250618T133000
DTEND;TZID=Europe/Brussels:20250618T153000
DTSTAMP:20260420T003115
CREATED:20241206T130220Z
LAST-MODIFIED:20241206T132246Z
UID:10000486-1750253400-1750260600@maisquellechanson.be
SUMMARY:Young Voices lente
DESCRIPTION:Young Voices prikkelt het muzikale gevoel van kinderen. \n\n\n\nIn dit traject worden ze spelenderwijs begeleid om zichzelf creatief te uitenen zelfzeker op een podium te staan. \n\n\n\nPlezier bij het zingen staat centraal. In de sessies praat Luna met de kinderen overde teksten en emoties van de liedjes. Aan de hand van verschillende oefeningenbrengt ze het belang van performance en samenzang bij. \n\n\n\nDe invulling van de sessies wordt steeds aangepast aan de interesses van dekinderen. Samen liedjes schrijven\, opnemen\, een clipje maken. Alles is mogelijk!Ook dansen en bewegen zijn in deze sessies essentieel. \n\n\n\nYoung Voices motiveert kinderen om hun eigen interesses te onderzoeken encreatief bezig te zijn. Het is een hechte en veilige omgeving om een kind warm temaken voor muziek. \n\n\n\nDe prijs voor 10 sessies: \n\n\n\n€90 Sociaal Tarief€110 Standaard Tarief€130 Tarief met extra steun voor MQC€18 Uitpas kansentarief \n\n\n\n(Je kan zelf het tarief kiezen dat best bij jouw inkomen past) \n\n\n\n\nSchrijf in
URL:https://maisquellechanson.be/agenda/young-voices-lente/2025-06-18/
LOCATION:De Broederij\, Ledeberg\, Standaertsite 1\, Ledeberg\, 9050\, Belgium
CATEGORIES:Kinderzang,Zangtrajecten
ATTACH;FMTTYPE=image/jpeg:https://maisquellechanson.be/wp-content/uploads/2024/04/aHA_Mais_quelle_chanson_24_02_18_Evy-Ottermans_240217_18_37_22_IMG_5055web.jpg
END:VEVENT
END:VCALENDAR