BEGIN:VCALENDAR
VERSION:2.0
PRODID:-//Mais Quelle Chanson - ECPv6.10.2//NONSGML v1.0//EN
CALSCALE:GREGORIAN
METHOD:PUBLISH
X-WR-CALNAME:Mais Quelle Chanson
X-ORIGINAL-URL:https://maisquellechanson.be
X-WR-CALDESC:Evenementen voor Mais Quelle Chanson
REFRESH-INTERVAL;VALUE=DURATION:PT1H
X-Robots-Tag:noindex
X-PUBLISHED-TTL:PT1H
BEGIN:VTIMEZONE
TZID:Europe/Brussels
BEGIN:DAYLIGHT
TZOFFSETFROM:+0100
TZOFFSETTO:+0200
TZNAME:CEST
DTSTART:20260329T010000
END:DAYLIGHT
BEGIN:STANDARD
TZOFFSETFROM:+0200
TZOFFSETTO:+0100
TZNAME:CET
DTSTART:20261025T010000
END:STANDARD
END:VTIMEZONE
BEGIN:VEVENT
DTSTART;TZID=Europe/Brussels:20260916T133000
DTEND;TZID=Europe/Brussels:20260916T153000
DTSTAMP:20260421T204113
CREATED:20260421T080651Z
LAST-MODIFIED:20260421T082553Z
UID:10000634-1789565400-1789572600@maisquellechanson.be
SUMMARY:Rebellious Voices schooljaar 2026-2027
DESCRIPTION:SAMENZANG VOOR JONGEREN \n\n\n\nWil jij graag jouw eigen zangstem ontdekken? Zing je graag samen met anderen? Ben je tussen 12 en 25 jaar? Dan is dit iets voor jou.  \n\n\n\nIn de Broederij in Ledeberg organiseert Mais Quelle Chanson elke woensdagnamiddag zangsessies voor jongeren. Je wordt persoonlijk begeleid door Kapinga Gysel in het zingen van een gevarieerd repertoire. Je leert een aantal stemtechnieken\, waarbij de nadruk ligt op samenzang. De songs worden gekozen op maat van de zangers. \n\n\n\nAls kers op de taart krijg je regelmatig de kans om on stage op te treden! \n\n\n\nJe kan inschrijven per module (module 1 zijn 10 sessies\, module 2 zijn 17 sessies) of voor het hele schooljaar. Je bespaart €10 per module als je meteen voor een heel schooljaar inschrijft. \n\n\n\nTarieven?  \n\n\n\nAls je inschrijft per module: \n\n\n\nMODULE 1 (10 sessies) \n\n\n\n€ 110 Sociaal tarief \n\n\n\n€ 130 Standaard prijs \n\n\n\n€ 150 Tarief met extra steun voor Mais Quelle Chanson \n\n\n\n€ 22 Uitpas kansentarief \n\n\n\nMODULE 2 (17 sessies) \n\n\n\n€ 187 Sociaal tarief \n\n\n\n€ 221 Standaard tarief \n\n\n\n€ 255 Tarief met extra steun voor Mais Quelle Chanson \n\n\n\n€ 37 Uitpas kansentarief \n\n\n\nAls je voor het hele schooljaar inschrijft (€10 korting per module): \n\n\n\n€ 277 Sociaal tarief \n\n\n\n€ 331 Standaard prijs \n\n\n\n€ 385 Tarief met extra steun voor Mais Quelle Chanson \n\n\n\n€ 55 Uitpas kansentarief \n\n\n\n(Je bepaalt zelf het passend tarief volgens jouw eigen financiële mogelijkheden)      \n\n\n\n  \n\n\n\n\nSchrijf in voor Rebellious Voices
URL:https://maisquellechanson.be/agenda/rebellious-voices-schooljaar-2026-2027/2026-09-16/
LOCATION:De Broederij\, Ledeberg\, Standaertsite 1\, Ledeberg\, 9050\, Belgium
CATEGORIES:Kinder- & Jongerenstemmen
ATTACH;FMTTYPE=image/jpeg:https://maisquellechanson.be/wp-content/uploads/2024/05/Bright_Light_Sessions_Deluxe_23_02_11_Evy_Ottermans_112212_IMG_2365-1web.jpg
END:VEVENT
END:VCALENDAR