BEGIN:VCALENDAR
VERSION:2.0
PRODID:-//Mais Quelle Chanson - ECPv6.10.2//NONSGML v1.0//EN
CALSCALE:GREGORIAN
METHOD:PUBLISH
X-WR-CALNAME:Mais Quelle Chanson
X-ORIGINAL-URL:https://maisquellechanson.be
X-WR-CALDESC:Evenementen voor Mais Quelle Chanson
REFRESH-INTERVAL;VALUE=DURATION:PT1H
X-Robots-Tag:noindex
X-PUBLISHED-TTL:PT1H
BEGIN:VTIMEZONE
TZID:Europe/Brussels
BEGIN:DAYLIGHT
TZOFFSETFROM:+0100
TZOFFSETTO:+0200
TZNAME:CEST
DTSTART:20240331T010000
END:DAYLIGHT
BEGIN:STANDARD
TZOFFSETFROM:+0200
TZOFFSETTO:+0100
TZNAME:CET
DTSTART:20241027T010000
END:STANDARD
END:VTIMEZONE
BEGIN:VEVENT
DTSTART;TZID=Europe/Brussels:20241104T140000
DTEND;TZID=Europe/Brussels:20241104T150000
DTSTAMP:20260420T224944
CREATED:20241022T130808Z
LAST-MODIFIED:20241022T130839Z
UID:10000411-1730728800-1730732400@maisquellechanson.be
SUMMARY:Schoolvoorstelling Wij Hier Samen Ook morgen (8+)
DESCRIPTION:Muzikale vertelling met kinderen centraal \n\n\n\nGroot worden is niet altijd zo evident.Hoe doe je dat eigenlijk?Een groep kinderen en jongeren gaat ernaar op zoek.Over wat mag en niet mag\, wie ze zijn\, wie ze niet zijn en wie ze graag zouden willen zijn. \n\n\n\n \n\n\n\n\nInfo en Tickets
URL:https://maisquellechanson.be/agenda/schoolvoorstelling-wij-hier-samen-ook-morgen-8/
LOCATION:Ha Concerts\, Kouter 29\, Gent\, 9000\, Belgium
CATEGORIES:Concerten,Projecten
ATTACH;FMTTYPE=image/jpeg:https://maisquellechanson.be/wp-content/uploads/2024/05/BI2A9722-1web-1-1.jpg
END:VEVENT
END:VCALENDAR